BEGIN:VCALENDAR
VERSION:2.0
PRODID:-//Portal Oficinal de São José do Rio Pardo - São Paulo - ECPv6.15.20//NONSGML v1.0//EN
CALSCALE:GREGORIAN
METHOD:PUBLISH
X-WR-CALNAME:Portal Oficinal de São José do Rio Pardo - São Paulo
X-ORIGINAL-URL:https://saojosedoriopardo.sp.gov.br
X-WR-CALDESC:Eventos para Portal Oficinal de São José do Rio Pardo - São Paulo
REFRESH-INTERVAL;VALUE=DURATION:PT1H
X-Robots-Tag:noindex
X-PUBLISHED-TTL:PT1H
BEGIN:VTIMEZONE
TZID:America/Sao_Paulo
BEGIN:STANDARD
TZOFFSETFROM:-0300
TZOFFSETTO:-0300
TZNAME:-03
DTSTART:20240101T000000
END:STANDARD
END:VTIMEZONE
BEGIN:VEVENT
DTSTART;VALUE=DATE:20250617
DTEND;VALUE=DATE:20250628
DTSTAMP:20260424T194139
CREATED:20250617T125622Z
LAST-MODIFIED:20250617T144016Z
UID:25550-1750118400-1751068799@saojosedoriopardo.sp.gov.br
SUMMARY:Vacinação contra a gripe
DESCRIPTION:A vacinação contra a gripe está chegando pertinho de você! Confira os dias\, locais e horários e venha se proteger. 💪 \n📍 Locais e datas: \n✅ 17/06 – Fonseca Centro (13h às 16h) \n✅ 18/06 – Fonseca Flex (7h30 às 11h | 13h às 16h) \n✅ 23/06 – Solar Supermercado (7h30 às 11h | 13h às 16h) \n✅ 25/06 – Fonseca St. Antonio (13h às 16h) \n✅ 27/06 – Bia Supermercado (7h30 às 11h | 13h às 16h) \n👶👵 Todas as faixas etárias \n🚫 Não deixe a gripe te pegar!
URL:https://saojosedoriopardo.sp.gov.br/evento/xo-gripe/
LOCATION:São josé do Rio pardo\, Brazil
ATTACH;FMTTYPE=image/jpeg:https://saojosedoriopardo.sp.gov.br/wp-content/uploads/2025/06/Xo-gripe.jpg
END:VEVENT
BEGIN:VEVENT
DTSTART;TZID=America/Sao_Paulo:20250516T080000
DTEND;TZID=America/Sao_Paulo:20250606T170000
DTSTAMP:20260424T194139
CREATED:20250425T153504Z
LAST-MODIFIED:20250525T223803Z
UID:22581-1747382400-1749229200@saojosedoriopardo.sp.gov.br
SUMMARY:Visita do Governador Tarcísio de Freitas
DESCRIPTION:
URL:https://saojosedoriopardo.sp.gov.br/evento/visita-do-governador-tarcisio-de-freitas/
END:VEVENT
BEGIN:VEVENT
DTSTART;TZID=America/Sao_Paulo:20250430T080000
DTEND;TZID=America/Sao_Paulo:20250430T170000
DTSTAMP:20260424T194139
CREATED:20250425T133341Z
LAST-MODIFIED:20250617T115618Z
UID:22518-1746000000-1746032400@saojosedoriopardo.sp.gov.br
SUMMARY:Inauguração Hospital Municipal
DESCRIPTION:
URL:https://saojosedoriopardo.sp.gov.br/evento/inauguracao-hospital-municipal/
END:VEVENT
END:VCALENDAR