BEGIN:VCALENDAR
VERSION:2.0
PRODID:-//Portal Oficinal de São José do Rio Pardo - São Paulo - ECPv6.15.20//NONSGML v1.0//EN
CALSCALE:GREGORIAN
METHOD:PUBLISH
X-WR-CALNAME:Portal Oficinal de São José do Rio Pardo - São Paulo
X-ORIGINAL-URL:https://saojosedoriopardo.sp.gov.br
X-WR-CALDESC:Eventos para Portal Oficinal de São José do Rio Pardo - São Paulo
REFRESH-INTERVAL;VALUE=DURATION:PT1H
X-Robots-Tag:noindex
X-PUBLISHED-TTL:PT1H
BEGIN:VTIMEZONE
TZID:America/Sao_Paulo
BEGIN:STANDARD
TZOFFSETFROM:-0300
TZOFFSETTO:-0300
TZNAME:-03
DTSTART:20240101T000000
END:STANDARD
END:VTIMEZONE
BEGIN:VEVENT
DTSTART;VALUE=DATE:20251123
DTEND;VALUE=DATE:20251224
DTSTAMP:20260424T152313
CREATED:20251124T143145Z
LAST-MODIFIED:20251124T143408Z
UID:28877-1763856000-1766534399@saojosedoriopardo.sp.gov.br
SUMMARY:Natal Mais Feliz
DESCRIPTION: 
URL:https://saojosedoriopardo.sp.gov.br/evento/natal-mais-feliz/
ATTACH;FMTTYPE=image/jpeg:https://saojosedoriopardo.sp.gov.br/wp-content/uploads/2025/11/progra7.jpg
END:VEVENT
BEGIN:VEVENT
DTSTART;TZID=America/Sao_Paulo:20251012T080000
DTEND;TZID=America/Sao_Paulo:20251012T233000
DTSTAMP:20260424T152313
CREATED:20250925T191750Z
LAST-MODIFIED:20250925T191816Z
UID:27559-1760256000-1760311800@saojosedoriopardo.sp.gov.br
SUMMARY:Dia de Doar Alegria
DESCRIPTION:Estamos em busca de voluntários para transformar esse dia em um momento ainda mais especial 💙 \n👉 Barbeiros\, cabeleireiras e manicures\, topam doar seu talento? \nhttps://forms.gle/6SFzn9b8K67yJ3xZ6 \n📅 12 de outubro | 13h | Área de Lazer
URL:https://saojosedoriopardo.sp.gov.br/evento/dia-de-doar-alegria-12-10/
ATTACH;FMTTYPE=image/jpeg:https://saojosedoriopardo.sp.gov.br/wp-content/uploads/2025/09/Voluntarios.jpg
END:VEVENT
BEGIN:VEVENT
DTSTART;TZID=America/Sao_Paulo:20251012T073000
DTEND;TZID=America/Sao_Paulo:20251012T103000
DTSTAMP:20260424T152313
CREATED:20250902T150124Z
LAST-MODIFIED:20250902T150124Z
UID:26945-1760254200-1760265000@saojosedoriopardo.sp.gov.br
SUMMARY:Corrida SEMEL 5K
DESCRIPTION:A Corrida SEMEL 5K vem aí em São José do Rio Pardo! Para toda a família\, teremos: \n* Corrida 5km \n* Caminhada \n* Corrida Kids \n📅 12 de outubro \n📍 Pátio do Ginásio Municipal de Esportes Tartarugão \n⏰ Largada às 7h30 \nGaranta já sua vaga no site 👉 www.corridaderuasuperacao.com.br \n⚠️ Vagas limitadas!
URL:https://saojosedoriopardo.sp.gov.br/evento/corrida-semel-5k/
ATTACH;FMTTYPE=image/jpeg:https://saojosedoriopardo.sp.gov.br/wp-content/uploads/2025/09/Corrida.jpg
END:VEVENT
BEGIN:VEVENT
DTSTART;TZID=America/Sao_Paulo:20251006T190000
DTEND;TZID=America/Sao_Paulo:20251006T210000
DTSTAMP:20260424T152313
CREATED:20250925T185414Z
LAST-MODIFIED:20250925T185414Z
UID:27555-1759777200-1759784400@saojosedoriopardo.sp.gov.br
SUMMARY:Audiência Pública a concessão dos serviços de água\, esgoto e resíduos sólidos em São José do Rio Pardo.
DESCRIPTION:Participe da Audiência Pública sobre a concessão dos serviços de água\, esgoto e resíduos sólidos em São José do Rio Pardo. \n06/10 (segunda-feira) | ⏰ 19h \nCâmara Municipal – Praça dos 3 Poderes\, 2 – Centro \n📲 Transmissão ao vivo pelas redes sociais da Câmara Municipal. \nA sua participação é fundamental para construir juntos o futuro da nossa cidade!
URL:https://saojosedoriopardo.sp.gov.br/evento/audiencia-publica-a-concessao-dos-servicos-de-agua-esgoto-e-residuos-solidos-em-sao-jose-do-rio-pardo/
ATTACH;FMTTYPE=image/jpeg:https://saojosedoriopardo.sp.gov.br/wp-content/uploads/2025/09/WhatsApp-Image-2025-09-24-at-10.27.18.jpeg
END:VEVENT
BEGIN:VEVENT
DTSTART;TZID=America/Sao_Paulo:20251004T090000
DTEND;TZID=America/Sao_Paulo:20251004T170000
DTSTAMP:20260424T152313
CREATED:20250925T185305Z
LAST-MODIFIED:20250925T185305Z
UID:27553-1759568400-1759597200@saojosedoriopardo.sp.gov.br
SUMMARY:Feirão de Empregos
DESCRIPTION:O 1º Feirão de Empregos de São José do Rio Pardo acontece dia 04/10\, sábado\, às 9h\, na Fundação Educacional. \n👉 Garanta já a sua participação: faça seu pré-cadastro no PAT – Casa do Empreendedor. \nLeve RG\, CPF e Carteira de Trabalho (física ou digital). \n📍 Av. Independência\, 279 – Centro \n📞 (19) 3681-6144 | Atendimento: segunda a sexta\, das 8h às 17h
URL:https://saojosedoriopardo.sp.gov.br/evento/feirao-de-empregos/
ATTACH;FMTTYPE=image/jpeg:https://saojosedoriopardo.sp.gov.br/wp-content/uploads/2025/09/Feirao-dos-empregos.jpg
END:VEVENT
BEGIN:VEVENT
DTSTART;TZID=America/Sao_Paulo:20250930T133000
DTEND;TZID=America/Sao_Paulo:20250930T170000
DTSTAMP:20260424T152313
CREATED:20250925T185536Z
LAST-MODIFIED:20250925T185536Z
UID:27557-1759239000-1759251600@saojosedoriopardo.sp.gov.br
SUMMARY:Semana de Mobilização Contra a Raiva!
DESCRIPTION:De 29/09 a 03/10\, agentes de zoonoses vão levar informações importantes sobre a prevenção da raiva nas escolas Dr. João Gabriel Ribeiro\, Prof. Jorge Luiz Abichabik e Prof. Stella Ribeiro e também em visitas às casas da cidade. \n💉 Vacinação de cães e gatos: \n📅 Dia 30/09 \n⏰ A partir das 13h30 \n📍 ESF Vale Redentor \n📍 ESF Domingos de Syllos \n📍 ESF Carlos Cassucci \n⚠️ Para vacinar seu pet: \n✔️ Leve a carteirinha de vacinação \n✔️ Gatos dentro de casinha ou saco de ráfia \n✔️ Cães com coleira e guia \n🚫 Crianças não devem levar os pets sem a presença de um adulto \nVenha vacinar seu amigo de quatro patas\, cuidar da saúde dele e da sua família! 🐶🐱💙
URL:https://saojosedoriopardo.sp.gov.br/evento/semana-de-mobilizacao-contra-a-raiva/
ATTACH;FMTTYPE=image/jpeg:https://saojosedoriopardo.sp.gov.br/wp-content/uploads/2025/09/WhatsApp-Image-2025-09-25-at-12.12.49-1.jpeg
END:VEVENT
BEGIN:VEVENT
DTSTART;TZID=America/Sao_Paulo:20250818T190000
DTEND;TZID=America/Sao_Paulo:20250825T213000
DTSTAMP:20260424T152313
CREATED:20250818T143408Z
LAST-MODIFIED:20250818T143408Z
UID:26648-1755543600-1756157400@saojosedoriopardo.sp.gov.br
SUMMARY:O Programa Sebrae “Mais que Beleza”
DESCRIPTION:O Programa Sebrae “Mais que Beleza” chegou com uma trilha incrível de capacitação feita especialmente para você\, profissional dos segmentos de Beleza\, Estética e Bem-estar! 💇🏻‍♀💆🏻‍♀💅🏾💈 \n📚 Confira a programação totalmente ONLINE e GRATUITA\, sempre às 19h: \n✅ 18/08 – Organização\, Planejamento e Gestão \n✅ 25/08 – O Poder da Inteligência Emocional no Atendimento ao Cliente \n✅ Consultoria individual personalizada \n✅ Participação na Beauty Fair 2025 – SP \n⚠ Atenção! A participação no programa é fundamental para estar apta à inscrição na caravana da Beauty Fair. \n🚨 Mas vale lembrar: a participação não garante vaga automática! A inscrição para a caravana será presencial\, por ordem de chegada\, aqui na Casa do Empreendedor\, após a finalização do curso. \n📲 Garanta já sua vaga nas capacitações: \n👉 https://forms.office.com/r/a6b3hZJJcV \nVagas limitadas! Não perca essa oportunidade de crescer com o Sebrae Aqui! 💼✨
URL:https://saojosedoriopardo.sp.gov.br/evento/o-programa-sebrae-mais-que-beleza/
ATTACH;FMTTYPE=image/jpeg:https://saojosedoriopardo.sp.gov.br/wp-content/uploads/2025/08/projeto-sebrae-1.jpg
END:VEVENT
BEGIN:VEVENT
DTSTART;VALUE=DATE:20250802
DTEND;VALUE=DATE:20250816
DTSTAMP:20260424T152313
CREATED:20250714T160721Z
LAST-MODIFIED:20250714T160824Z
UID:26235-1754092800-1755302399@saojosedoriopardo.sp.gov.br
SUMMARY:87ª Semana Euclidiana
DESCRIPTION:📚 A Prefeitura de São José do Rio Pardo\, por meio da Secretaria Municipal de Turismo e Cultura e da Casa Euclidiana \, apresenta oficialmente a PROGRAMAÇÃO DA 87ª SEMANA EUCLIDIANA! \n💙 A contagem regressiva já começou para o maior evento cívico-literário do Brasil\, que celebra o legado de Euclides da Cunha com uma agenda repleta de cultura\, história\, arte e conhecimento. \n🎭 Prepare-se para uma semana inesquecível\, repleta de atividades para todas as idades. \n📅 Fiquem atentos às datas e prestigiem! \nVamos juntos celebrar a 87ª Semana Euclidiana com orgulho e participação!
URL:https://saojosedoriopardo.sp.gov.br/evento/87a-semana-euclidiana/
ATTACH;FMTTYPE=image/jpeg:https://saojosedoriopardo.sp.gov.br/wp-content/uploads/2025/07/patrimonio.jpg
END:VEVENT
BEGIN:VEVENT
DTSTART;VALUE=DATE:20250724
DTEND;VALUE=DATE:20250728
DTSTAMP:20260424T152313
CREATED:20250704T191958Z
LAST-MODIFIED:20250704T191959Z
UID:26020-1753315200-1753660799@saojosedoriopardo.sp.gov.br
SUMMARY:1º SENABE – Seminário Nacional da Beterraba
DESCRIPTION:🎤 Show confirmado! Matogrosso & Mathias vai agitar São José do Rio Pardo no dia 27 de julho\, com entrada totalmente gratuita! \n🎶 A apresentação faz parte da programação do 1º SENABE – Seminário Nacional da Beterraba\, que acontece nos dias 24\, 25\, 26 e 27 de julho. \n📍 Local: Área de Lazer (ao lado do ginásio do tartarugão) – São José do Rio Pardo/SP \n🧃 Música boa\, festa e muita beterraba! Você não pode perder!
URL:https://saojosedoriopardo.sp.gov.br/evento/1o-senabe-seminario-nacional-da-beterraba/
LOCATION:Área de Lazer (ao lado do ginásio do tartarugão) – São José do Rio Pardo/SP\, Av. Mᵃ Aparecida Salgado Braghetta\, São José do Rio Pardo\, São Paulo\, 13720-000\, Brazil
ATTACH;FMTTYPE=image/jpeg:https://saojosedoriopardo.sp.gov.br/wp-content/uploads/2025/07/Mato-grosso-e-Matias.jpg
END:VEVENT
BEGIN:VEVENT
DTSTART;TZID=America/Sao_Paulo:20250702T080000
DTEND;TZID=America/Sao_Paulo:20250702T170000
DTSTAMP:20260424T152313
CREATED:20250624T181217Z
LAST-MODIFIED:20250624T181312Z
UID:25786-1751443200-1751475600@saojosedoriopardo.sp.gov.br
SUMMARY:Vem aí a 12ª Conferência Municipal de Assistência Social de São José do Rio Pardo!
DESCRIPTION:Data: 02 de julho \n⏰ Horário: 8h \n📍 Local: Auditório SINCOPAR – Rua Curupaiti\, nº 88\, Centro \n🎯 Tema: “20 Anos do SUAS: Construção\, Proteção Social e Resistência” \n📌 Inscreva-se até o dia 30/06 através do link https://forms.gle/JGdhsjTz2tqe4cmr7 \nUma oportunidade de fortalecer o debate sobre as políticas públicas de assistência social no município! Participe!
URL:https://saojosedoriopardo.sp.gov.br/evento/vem-ai-a-12a-conferencia-municipal-de-assistencia-social-de-sao-jose-do-rio-pardo/
LOCATION:Auditório SINCOPAR – Rua Curupaiti\, nº 88\, Centro\, Auditório SINCOPAR – Rua Curupaiti\, nº 88\, Centro\, São jose do Rio Pardo\, São Paulo\, Brazil
ATTACH;FMTTYPE=image/jpeg:https://saojosedoriopardo.sp.gov.br/wp-content/uploads/2025/06/Conf-.jpg
END:VEVENT
BEGIN:VEVENT
DTSTART;VALUE=DATE:20250617
DTEND;VALUE=DATE:20250628
DTSTAMP:20260424T152313
CREATED:20250617T125622Z
LAST-MODIFIED:20250617T144016Z
UID:25550-1750118400-1751068799@saojosedoriopardo.sp.gov.br
SUMMARY:Vacinação contra a gripe
DESCRIPTION:A vacinação contra a gripe está chegando pertinho de você! Confira os dias\, locais e horários e venha se proteger. 💪 \n📍 Locais e datas: \n✅ 17/06 – Fonseca Centro (13h às 16h) \n✅ 18/06 – Fonseca Flex (7h30 às 11h | 13h às 16h) \n✅ 23/06 – Solar Supermercado (7h30 às 11h | 13h às 16h) \n✅ 25/06 – Fonseca St. Antonio (13h às 16h) \n✅ 27/06 – Bia Supermercado (7h30 às 11h | 13h às 16h) \n👶👵 Todas as faixas etárias \n🚫 Não deixe a gripe te pegar!
URL:https://saojosedoriopardo.sp.gov.br/evento/xo-gripe/
LOCATION:São josé do Rio pardo\, Brazil
ATTACH;FMTTYPE=image/jpeg:https://saojosedoriopardo.sp.gov.br/wp-content/uploads/2025/06/Xo-gripe.jpg
END:VEVENT
BEGIN:VEVENT
DTSTART;TZID=America/Sao_Paulo:20250516T080000
DTEND;TZID=America/Sao_Paulo:20250606T170000
DTSTAMP:20260424T152313
CREATED:20250425T153504Z
LAST-MODIFIED:20250525T223803Z
UID:22581-1747382400-1749229200@saojosedoriopardo.sp.gov.br
SUMMARY:Visita do Governador Tarcísio de Freitas
DESCRIPTION:
URL:https://saojosedoriopardo.sp.gov.br/evento/visita-do-governador-tarcisio-de-freitas/
END:VEVENT
BEGIN:VEVENT
DTSTART;TZID=America/Sao_Paulo:20250430T080000
DTEND;TZID=America/Sao_Paulo:20250430T170000
DTSTAMP:20260424T152313
CREATED:20250425T133341Z
LAST-MODIFIED:20250617T115618Z
UID:22518-1746000000-1746032400@saojosedoriopardo.sp.gov.br
SUMMARY:Inauguração Hospital Municipal
DESCRIPTION:
URL:https://saojosedoriopardo.sp.gov.br/evento/inauguracao-hospital-municipal/
END:VEVENT
END:VCALENDAR